Workbook
Name CAC_40: Indices!$B$3
Name CAC_Large_60_EWER: Indices!$B$4
Name Euro_iSTOXX_EWC_50: Indices!$B$10
Name Euro_Stoxx_50: Indices!$B$5
Name EURONEXT__EURO_50_ESG_EW_DECREMENT_50_POINTS: Indices!$B$11
Name Euronext_CDP_Environment_France_EW_Decrement_5: Indices!#REF!
Name Euronext_CDP_Environment_France_EW_Decrement_5: [1]Indices!#REF!
Name Euronext_Core_Europe_30_EW_Decrement_5__NR: Indices!$B$9
Name Eurozone_40EW_D5: Indices!$B$7
Name Eurozone_70EW_D5: Indices!$B$8
Name SBF_TOP_50_ESG: Indices!$B$12
Name SBF_Top_80_EW_Decrement: Indices!$B$6
Name SBFT50ESGEWD50P: Indices!$A$12
Name Solactive_Eurozone_50_Equal_Weight_5__AR_Index__NTR: Indices!#REF!
Name Solactive_France_40_Equal_Weight_NTR_5__AR: Indices!$B$2
Name SX7E: Indices!$A$15

Sheet Indices
A1: INDICES | B1: COURS DE CLOTURE AU 30/06/2025
A2: Solactive France 40 Equal Weight NTR 5% AR | B2: 1121.61
A3: CAC 40 | B3: 7665.91
A4: CAC Large 60 EWER | B4: 1802.08
A5: Euro Stoxx 50 | B5: 5303.24
A6: SBF Top 80 EW Decrement | B6: 1018.84
A7: Eurozone 40EW D5 | B7: 990.85
A8: Eurozone 70EW D5 | B8: 1077.95
A9: Euronext Core Europe 30 EW Decrement 5% NR | B9: 1323.63
A10: Euro iSTOXX EWC 50 | B10: 1431.55
A11: EURONEXT® EURO 50 ESG EW DECREMENT 50 POINTS | B11: 1505.61
A12: SBFT 50 ESGEW D50P | B12: 922.49
A13: Euro Evolution | B13: 92.916
... A26: iEdge Europe Climate EW 40 Decrement 50 Points GTR Index | B26: 961.732

Sheet EMTN DS IS en cours de vie
A1: Nom Commercial | B1: Code ISIN | C1: Emetteur | D1: Date d'observation initiale | E1: Date d'observation finale | F1: Indice de référence Lien hypertexte | G1: Strike au lancement | H1: Cours au 27/02/2026 | I1: Variation de l'indice | J1: Valorisation | K1: SRI | L1: Somme des coupons versés | M1: Prochaine date d'observation | N1: Prochain Coupon conditionnel | O1: Type de constatation | P1: Caractéristiques | Q1: Montant collecté | R1: Up Front
A2: Repack Obligation Subordonnée Groupama Septembre 2018 | B2: XS1839742118 | C2: BNP | D2: 43383 | E2: 47035 | F2: - | G2: - | H2: - | I2: - | J2: - | K2: 1 | L2: 0.1297 | M2: 46304 | N2: Entre 2% et 4% | O2: Annuelle | P2: Coupon: Indexés au Taux de Swap EUR 10 ans plus 0% par an avec un taux minimum de 2,00% par an et un taux maximum de 4,00% par an payé le 9 octobre de chaque année à partir du 9 octobre 2019 Rappel anticipé: en cas de défaut de l'émetteur À maturité: risque de perte en capital en cas de défaut | Q2: =500000 -> 500000 | R2: 0.02
A3: Optistoxx Décembre 2019 | B3: FR0013454519 | C3: SG | D3: 43830 | E3: 48228 | F3: Euro Evolution | G3: 112.49 | H3: =VLOOKUP(A3,Data!$A$3:$D$1048576,4,FALSE) -> 100.845 | I3: =H3/G3-1 -> -0.10352031 | J3: =VLOOKUP(B3,Data!$F$3:$I$1048576,4,FALSE)/100 -> 0.885 | K3: 5 | L3: 0.18 | M3: 46387 | N3: 0.06 | O3: Annuelle | P3: Coupons : 6% par an versé si la performance du sous-jacent est supérieur à -20% Rappel automatique anticipé : Possible chaque année à partir du 21/12/2020 si à date d'observation le niveau du sous-jacent est supérieur à son niveau initial Protection du capital : jusqu'à une baisse de -50% du sous-jacent à échéance
A4: Phoenix Arena Décembre 2019 | B4: XS2059553722 | C4: SG | D4: 43860 | E4: 48250 | F4: Euro Evolution | G4: 113.59 | H4: =VLOOKUP(A4,Data!$A$3:$D$1048576,4,FALSE) -> 100.845 | I4: =H4/G4-1 -> -0.11220178 | J4: =VLOOKUP(B4,Data!$F$3:$I$1048576,4,FALSE)/100 -> 0.8755 | K4: 5 | L4: 0.36 | M4: 46419 | N4: 0.06 | O4: Annuelle | P4: Coupon d'attente: 6% par an si la performance de l'indice est supérieure ou égale à -20% aux dates de constatations annuelles avec effet mémoire sur les coupons d'attentes non-versés Coupon conditionnel: 2% supplémentaire payé en cas de rappel anticipé à l'issue de l'année 1 Rappel anticipé: Si la performance de l'indice est positive ou nulle aux dates de constatation annuelles à l'issue de l'année 1 À maturité: Riqsue de perte partielle ou total si la performance du sous-jacent est inférieure à 50% de son niveau initial | Q4: =200000+149000 -> 349000 | R4: 0.035
A5: Duo Mix Protel Avril 2021 | B5: XS2278343319 | C5: SG | D5: 44307 | E5: 48690 | F5: Euro Evolution | G5: 94.39 | H5: =VLOOKUP(A5,Data!$A$3:$D$1048576,4,FALSE) -> 100.845 | I5: =H5/G5-1 -> 0.068386482 | J5: =VLOOKUP(B5,Data!$F$3:$I$1048576,4,FALSE)/100 -> 1.0274 | K5: 3 | L5: 0.21 | M5: 46133 | N5: 0.065 | O5: Annuelle | P5: Poche garantie: Remboursement de 50% du capital avec un coupon de 1.50% Garanti payé en année 1, 2 et 3 sur 100% du nominal Coupon conditionnel : Chaque année, un coupon d’attente de 6.50% x 50% du nominal est versé si la performance de l’indice est supérieure à -20% aux dates de constatation annuelle | Q5: =500000 -> 500000 | R5: 0.02
A6: Duo Mix Athena Avril 2021 | B6: FR0014002JX3 | C6: SG | D6: 44323 | E6: 48709 | F6: Euro Evolution | G6: 94.88 | H6: =VLOOKUP(A6,Data!$A$3:$D$1048576,4,FALSE) -> 100.845 | I6: =H6/G6-1 -> 0.062868887 | J6: =VLOOKUP(B6,Data!$F$3:$I$1048576,4,FALSE)/100 -> 0.3579 | K6: 2 | L6: 0.021 | M6: 46149 | N6: 0.03 | O6: Semestrielle | P6: Poche garantie : Remboursement de 70% du capital avec un coupon de 2.10% Garanti sur 100% du nominal (i.e 3% sur 70% du capital) Coupon conditionnel : 3.00% par semestre écoulé en cas de rappel anticipé Rappel anticipé : à 100% x 30% du nominal + i x 3% x30% du nominal si la performance de l’indice est supérieure ou égale à 0% à une des dates de constatation semestrielle à partir du S3 À maturité : Risque de perte partielle ou total si la performance du sous-jacent est inférieure à 50% de son niveau initial | Q6: =100000 -> 100000 | R6: 0.02
A7: Duo Mix OVE Juin 2021 | B7: XS2121002005 | C7: SG | D7: 44354 | E7: 48737 | F7: Euro Evolution | G7: 96.07 | H7: =VLOOKUP(A7,Data!$A$3:$D$1048576,4,FALSE) -> 100.845 | I7: =H7/G7-1 -> 0.049703341 | J7: =VLOOKUP(B7,Data!$F$3:$I$1048576,4,FALSE)/100 -> 1.2633 | K7: 2 | L7: 0.042 | M7: 46181 | N7: 0.04 | O7: Semestrielle | P7: Poche garantie : Remboursement de 70% du capital au bout de 3 mois avec un coupon de 2.10% Garanti sur 100% du nominal distribué au bout de 3 mois / Rappel anticipé à 100% x 30% du nominal + i x 4.00% x 30% du nominal si la performance de l’indice est supérieure ou égale à 0% à une des dates de constatation semestrielle à partir du S4 | Q7: =1500000 -> 1500000 | R7: 0.0175
A8: Athena Rendement HY Juin 2021 | B8: XS2120989905 | C8: SG | D8: 44354 | E8: 48015 | F8: Euro Evolution | G8: 96.07 | H8: =VLOOKUP(A8,Data!$A$3:$D$1048576,4,FALSE) -> 100.845 | I8: =H8/G8-1 -> 0.049703341 | J8: =VLOOKUP(B8,Data!$F$3:$I$1048576,4,FALSE)/100 -> 0.9946 | K8: 4 | L8: - | M8: 46181 | N8: 0.04 | O8: Annuelle | P8: Coupons : 4,00% garantt de l'année 1 à 4 versé à échéance puis coupon de 4% par an versé en cas de rappel + coupon d'attente de 2% de l'année 5 à 10 si la performance de l’indice est inférieure à -10% aux dates de constatations annuelles Rappel automatique anticipé : Rappel possible à partir de l'année 5 si la performance du sous-jacent est supérieur à -10% Protection du capital : jusqu'à une baisse de -50% du sous-jacent à échéance
A9: Duo Mix CERA Athena Juin 2021 | B9: XS2314078986 | C9: SG | D9: 44358 | E9: 48743 | F9: Euro Evolution | G9: 97.1 | H9: =VLOOKUP(A9,Data!$A$3:$D$1048576,4,FALSE) -> 100.845 | I9: =H9/G9-1 -> 0.038568486 | J9: =VLOOKUP(B9,Data!$F$3:$I$1048576,4,FALSE)/100 -> 1.2828 | K9: 2 | L9: 0.054 | M9: 46184 | N9: 0.044 | O9: Semestrielle | P9: Poche garantie : Remboursement de 60% du capital au bout de 3 ans avec un coupon de 1.80% Garanti sur 100% du nominal distribué en année 1, 2 et 3 / Rappel anticipé à 100% x 40% du nominal + i x 4.40% x 40% du nominal (i.e. 400€ par part) si la performance de l’indice est supérieure ou égale à 0% à une des dates de constatation semestrielle à partir du Semestre 6 | Q9: =505000 -> 505000 | R9: 0.0175
A10: Rendement Juin 2021 | B10: FR0014002AE2 | C10: SG | D10: 44362 | E10: 48752 | F10: Euro Evolution | G10: 98.17 | H10: =VLOOKUP(A10,Data!$A$3:$D$1048576,4,FALSE) -> 100.845 | I10: =H10/G10-1 -> 0.02724865 | J10: =VLOOKUP(B10,Data!$F$3:$I$1048576,4,FALSE)/100 -> 1.1647 | K10: 4 | L10: 0.18 | M10: 46096 | N10: 0.01 | O10: Trimestre | P10: Coupon de 1.10% par trimestre écoulée en cas de rappel anticipé (soit 4.40% par an) / Coupon Garanti de 1% versé chaque trimestre des trimestres 1 à 24 / Clause de rappel anticipé : si la Performance du fonds est positive ou nulle aux dates de constatation trimestrielle à partir du T4 | Q10: =1000000 -> 1000000 | R10: 0.03
A11: Duo mix DP Juin 2021 | B11: XS2314010245 | C11: SG | D11: 44377 | E11: 48760 | F11: Euro Evolution | G11: 99.63 | H11: =VLOOKUP(A10,Data!$A$3:$D$1048576,4,FALSE) -> 100.845 | I11: =H11/G11-1 -> 0.012195122 | J11: =VLOOKUP(B11,Data!$F$3:$I$1048576,4,FALSE)/100 -> 1.1185 | K11: 2 | L11: 0.021 | M11: 46111 | N11: 0.03 | O11: Trimestrielle | P11: Poche garantie : Remboursement de 70% du capital (i.e 700€par part) avec un coupon de 2.10% Garanti sur 100% du nominal (soit 3.00% sur 70%) Coupon conditionnel : 3.00% par semestre écoulé en cas de rappel anticipé Rappel anticipé : Si la performance de l'indice est positive ou nulle à l'une des dates de constatation semestrielle à partir du S4 À maturité: Riqsue de perte partielle ou total si la performance du sous-jacent est inférieure à 50% de son niveau initial | Q11: 750000
A12: Athena Duo Mix YOLEVA | B12: XS2314056826 | C12: SG | D12: 44377 | E12: 48750 | F12: Euro Evolution | G12: 97.76 | H12: =VLOOKUP(A12,Data!$A$3:$D$1048576,4,FALSE) -> 100.845 | I12: =H12/G12-1 -> 0.031556874 | J12: =VLOOKUP(B12,Data!$F$3:$I$1048576,4,FALSE)/100 -> 1.2696 | K12: 2 | L12: 0.054 | M12: 46191 | N12: 0.044 | O12: Semestrielle | P12: Poche garantie : Remboursement de 60% du capital au bout de 3 ans avec un coupon de 1.80% Garanti sur 100% du nominal distribué en année 1, 2 et 3 / Rappel anticipé à 100% x 40% du nominal + i x 4.40% x40% du nominal si la performance de l’indice est supérieure ou égale à 0% à une des dates de constatation semestrielle à partir du S6 | Q12: =550000 -> 550000 | R12: 0.03
A13: Duo Mix Athena Aout 2021 | B13: FR0014003IU9 | C13: SG | D13: 44414 | E13: 48799 | F13: Euro Evolution | G13: 107.34 | H13: =VLOOKUP(A13,Data!$A$3:$D$1048576,4,FALSE) -> 100.845 | I13: =H13/G13-1 -> -0.060508664 | J13: =VLOOKUP(B13,Data!$F$3:$I$1048576,4,FALSE)/100 -> 0.9738 | K13: 2 | L13: 0.021 | M13: 46240 | N13: 0.03 | O13: semestrielle | P13: Poche garantie : Remboursement de 70% du capital avec un coupon de 2.10% Garanti sur 100% du nominal / Rappel anticipé à 100% x 30% du nominal + i x 3% x 30% du nominal si la performance de l’indice est supérieure ou égale à 0% à une des dates de constatation semestrielle à partir du S3 | Q13: =200000 -> 200000 | R13: 0.02
A14: Duo Mix Phoenix WP Aout 2021 | B14: XS2313830429 | C14: SG | D14: 44419 | E14: 48809 | F14: Euro Evolution | G14: 108.86 | H14: =VLOOKUP(A14,Data!$A$3:$D$1048576,4,FALSE) -> 100.845 | I14: =H14/G14-1 -> -0.073626676 | J14: =VLOOKUP(B14,Data!$F$3:$I$1048576,4,FALSE)/100 -> 0.8589 | K14: 3 | L14: 0.12 | M14: 46245 | N14: 0.05 | O14: Annuelle | P14: Poche garantie : Remboursement de 50% du capital avec un coupon de 1.50% Garanti payé en année 1, 2 et 3 sur 100% du nominal / Chaque année, un coupon d’attente de 5.00% x 50% du nominal est versé si la performance de l’indice est supérieure à -20% aux dates de constatation annuelle, Un effet mémoire permettra de toucher les coupons d’attente non versés les années précédentes si la performance de l’indice est supérieure à -20% aux dates de constatation annuelle | Q14: =800000 -> 800000 | R14: 0.0175
A15: Dailycall Aout 2021 | B15: FR0014003539 | C15: SG | D15: 44424 | E15: 48807 | F15: Euro Evolution | G15: 108.99 | H15: =VLOOKUP(A15,Data!$A$3:$D$1048576,4,FALSE) -> 100.845 | I15: =H15/G15-1 -> -0.074731627 | J15: =VLOOKUP(B15,Data!$F$3:$I$1048576,4,FALSE)/100 -> 1.2307 | K15: 5 | L15: - | M15: 48807 | N15: 0.11 | O15: Quotidienne | P15: Rappel anticipé à 100% + 11.00 % par an (prorata temporis) si la performance de l’indice est supérieure ou égale à 0% depuis l’origine à une des dates de constatation quotidiennes à partir de la fin de l’année 1, Effet oxygène à maturité jusqu’à une baisse de -20% | Q15: =1404471+713000 -> 2117471 | R15: 0.03
A16: Evolution 2021 | B16: FR0014003VH9 | C16: SG | D16: 44428 | E16: 48813 | F16: Euro Evolution | G16: 108.84 | H16: =VLOOKUP(A16,Data!$A$3:$D$1048576,4,FALSE) -> 100.845 | I16: =H16/G16-1 -> -0.07345645 | J16: =VLOOKUP(B16,Data!$F$3:$I$1048576,4,FALSE)/100 -> 1.3435 | K16: 5 | L16: - | M16: 46101 | N16: 0.012 | O16: Mensuelle | P16: Coupon de 1.20% par mois et 14.40% par an en cas de rappel anticipé, Clause de rappel anticipé => Performance de l’indice positive ou nulle aux dates de constatation mensuelles , Coupon de 172.8% à maturité si la Performance de l’indice est supérieure ou égale à -20% | Q16: =203000 -> 203000 | R16: 0.03
A17: Duo Mix FPH Septembre 2021 | B17: XS2348007282 | C17: SG | D17: 44448 | E17: 48831 | F17: Euro Evolution | G17: 108.97 | H17: =VLOOKUP(A17,Data!$A$3:$D$1048576,4,FALSE) -> 100.845 | I17: =H17/G17-1 -> -0.074561806 | J17: =VLOOKUP(B17,Data!$F$3:$I$1048576,4,FALSE)/100 -> 0.8269 | K17: 3 | L17: 0.156 | M17: 46274 | N17: 0.037 | O17: Annuelle | P17: Remboursement de 50% du capital (i.e 500€ par part) en année 3, avec un coupon de 1.50% Garanti payé en année 1, 2 et 3 sur 100% du nominal, Chaque année, un coupon d’attente de 3.70%% x 50% du nominal (i.e 500€ par part) est versé si la performance de l’indice est supérieure à -20% aux dates de constatation annuelle, Un effet mémoire permettra de toucher les coupons d’attente non versés les années précédentes si la performance de l’indice est supérieure à -20% aux dates de constatation annuelle | Q17: =8200000+1800000 -> 10000000 | R17: 0.0175
A18: Duo Mix Athena Octobre 2021 | B18: FR0014005EI8 | C18: SG | D18: 44498 | E18: 48883 | F18: Euro Evolution | G18: 105.2 | H18: =VLOOKUP(A18,Data!$A$3:$D$1048576,4,FALSE) -> 100.845 | I18: =H18/G18-1 -> -0.041397338 | J18: =VLOOKUP(B18,Data!$F$3:$I$1048576,4,FALSE)/100 -> 0.9476 | K18: 2 | L18: 0.021 | M18: 46141 | N18: 0.02 | O18: semestrielle | P18: Remboursement de 70% du capital (i.e 700€ par part) au bout de 3 mois avec un coupon de 2.10% Garanti sur 100% du nominal distribué le 20/01/2022, Rappel anticipé à 100% x 30% du nominal + i x 2.00% x30% du nominal (i.e 300€ par part) si la performance de l’indice est supérieure ou égale à 0% à une des dates de constatation semestrielle à partir du S4 | Q18: =200000 -> 200000 | R18: 0.0072
A19: Rendement Octobre 2021 | B19: FR0014004CX4 | C19: SG | D19: 44498 | E19: 48883 | F19: Euro Evolution | G19: 105.2 | H19: =VLOOKUP(A19,Data!$A$3:$D$1048576,4,FALSE) -> 100.845 | I19: =H19/G19-1 -> -0.041397338 | J19: =VLOOKUP(B19,Data!$F$3:$I$1048576,4,FALSE)/100 -> 1.0399 | K19: 4 | L19: 0.09 | M19: 46141 | N19: 0.0325 | O19: semestrielle | P19: Coupon de 3.25% par semestre écoulée en cas de rappel anticipé, Coupon Garanti de 1.50% versé chaque semestre des semestres 1 à 8 (en plus du coupon de rappel et si le produit n’a pas été rappelé par anticipation les années précédentes),Clause de rappel anticipé => Performance du fonds positive ou nulle aux dates de constatation semestrielle à partir du S2 | Q19: =143441+350000 -> 493441 | R19: 0.03
A20: Duo Mix CE Quadrant Novembre 2021 | B20: XS2379063659 | C20: SG | D20: 44529 | E20: 48919 | F20: SOLYS-Quadrant Europe | G20: 98.17 | H20: =VLOOKUP(A20,Data!$A$3:$D$1048576,4,FALSE) -> 83.8643 | I20: =H20/G20-1 -> -0.14572374 | J20: =VLOOKUP(B20,Data!$F$3:$I$1048576,4,FALSE)/100 -> 0.6766 | K20: 2 | L20: 0.021 | M20: 46171 | N20: 0.02 | O20: semestrielle | P20: Remboursement de 70% du capital (i.e 700€ par part) au bout de 6 mois avec un coupon de 2.10% Garanti sur 100% du nominal distribué au bout de 6 mois, Rappel anticipé à 100% x 30% du nominal + i x 2.00% x 30% du nominal (i.e 300€ par part) si la performance du sous-jacent est supérieure ou égale à 0% à une des dates de constatation semestrielle à partir du S4 | Q20: =500000 -> 500000 | R20: 0.0175
A21: Phoenix Semestriel HOOD Décembre 2021 | B21: XS2378803311 | C21: SG | D21: 44530 | E21: 48920 | F21: SOLYS-Quadrant Europe | G21: 97.08 | H21: =VLOOKUP(A21,Data!$A$3:$D$1048576,4,FALSE) -> 83.8643 | I21: =H21/G21-1 -> -0.13613206 | J21: =VLOOKUP(B21,Data!$F$3:$I$1048576,4,FALSE)/100 -> 0.7773 | K21: 4 | L21: =18.9%+2.7% -> 0.216 | M21: 46174 | N21: 0.027 | O21: semestrielle | P21: Chaque semestre, un coupon de 2.70% p.s (soit 5.40% p.a) est versé si la performance de l’indice est supérieure ou égale à -30% aux dates de constatation semestrielles, Un effet mémoire permettra de toucher les coupons d’attente non versés les semestres précédents si la performance est supérieure ou égale à -30% aux dates de constatation semestrielles, Rappel anticipé à 100% (en plus du coupon de 2.70%) si la performance de l’indice est supérieure ou égale à 0% à une des dates de constatation semestrielles | Q21: =540000 -> 540000 | R21: 0.025
A22: Dailycall Décembre 2021 | B22: FR0014005UY1 | C22: SG | D22: 44547 | E22: 48932 | F22: Euro Evolution | G22: 108.44 | H22: =VLOOKUP(A22,Data!$A$3:$D$1048576,4,FALSE) -> 100.845 | I22: =H22/G22-1 -> -0.070038731 | J22: =VLOOKUP(B22,Data!$F$3:$I$1048576,4,FALSE)/100 -> 1.1758 | K22: 5 | L22: - | M22: Daily | N22: 10,00% p.a | O22: Quotidienne | P22: Clause de rappel anticipé => Un coupon conditionnel de 10,00% par an est distribué (prorata temporis) si le sous-jacent est observé à un niveau suppérieur ou égale à 0% à l'issue du 12ème mois. Le produit peut être rappelé par anticipation à partir du 19 décembre 2022 si le sous-jacent est observé à un niveau supérieur ou égale à 0%. Pas de garantie en capital à maturité si la baisse au terme est supérieur à -50% (attention => risque perte de 100% du capital) À maturité, effet oxygène jusuqu'à une baisse de 20% du sous-jacent par rapport à son niveau initial. | Q22: =50000+45000 -> 95000
A23: Duo Mix Athena Quadrant VV Janvier 2022 | B23: XS2378876978 | C23: SG | D23: 44573 | E23: 48949 | F23: SOLYS-Quadrant Europe | G23: 98.48 | H23: =VLOOKUP(A23,Data!$A$3:$D$1048576,4,FALSE) -> 83.8643 | I23: =H23/G23-1 -> -0.14841288 | J23: =VLOOKUP(B23,Data!$F$3:$I$1048576,4,FALSE)/100 -> 0.6593 | K23: 2 | L23: 0.0231 | M23: 46215 | N23: 0.02 | O23: semestrielle | P23: Remboursement de 70% du capital (i.e 700€ par part) au bout de 3 ans avec un coupon de 0.77% Garanti sur 100% du nominal distribué chaque année pendant 3, Rappel anticipé à 100% x 30% du nominal + i x 2.00% x 30% du nominal (i.e 300€ par part) si la performance du sous-jacent est supérieure ou égale à 0% à une des dates de constatation semestrielle à partir du S4 | Q23: =1000000 -> 1000000 | R23: 0.0175
A24: DUO MIX AMFAUST Janvier 2022 | B24: XS2379073963 | C24: SG | D24: 44587 | E24: 48970 | F24: SOLYS-Quadrant Europe | G24: 93.51 | H24: =VLOOKUP(A24,Data!$A$3:$D$1048576,4,FALSE) -> 83.8643 | I24: =H24/G24-1 -> -0.10315153 | J24: =VLOOKUP(B24,Data!$F$3:$I$1048576,4,FALSE)/100 -> 0.7349 | K24: 3 | L24: 0.135 | M24: 46413 | N24: 0.05 | O24: Annuelle | P24: Remboursement de 50% du capital (i.e 500€ par part) au bout de 3 ans, avec un coupon de 1.50% Garanti payé en année 1, 2 et 3 sur 100% du nominal, Chaque année, un coupon d’attente de 5.00% x 50% du nominal (i.e 500€ par part) est versé si la performance de l’indice est supérieure à -20% aux dates de constatation annuelle, Un effet mémoire permettra de toucher les coupons d’attente non versés les années précédentes si la performance de l’indice est supérieure à -20% aux dates de constatation annuelle | Q24: =1500000 -> 1500000
A25: iTraxx Main S36 Mars 2022 | B25: XS2123759347 | C25: BNP | D25: 44629 | E25: 46377 | F25: iTraxx Main S36 | G25: en fonction du nombre de défauts | I25: - | J25: =VLOOKUP(B25,Data!$F$3:$I$1048576,4,FALSE)/100 -> 1.0066 | K25: 2 | L25: 0.1208 | M25: 46394 | N25: 0.043 | O25: Annuelle | P25: Coupon 4.30% garanti chaque année, First Short Pas de garantie en capital : l’investisseur commence à perdre à compter du cinquième défaut et perd tout à compter du huitième déf | Q25: =500000 -> 500000
A26: CLN Générali Sénior Avril 2022 | B26: FR0014009XE9 | C26: BNP | D26: 44679 | E26: 48399 | F26: - | G26: - | I26: - | J26: =VLOOKUP(B26,Data!$F$3:$I$1048576,4,FALSE)/100 -> 0.9632 | L26: 0.0635 | M26: 46207 | N26: entre 1,8% et 5% | O26: annuelle | P26: coupon Payé annuellement à terme échu, le 5 juillet de chaque année à partir du 5 juillet 2023, en l’absence d’Événement de Crédit sur l’Entité de Référence, sur une base 30/360 non ajustée. | Q26: =2000000 -> 2000000
A27: CLN Société Générale Sub Juillet 2022 | B27: FR001400BEX1 | C27: BNP | D27: 44742 | E27: 46573 | F27: - | G27: - | I27: - | J27: =VLOOKUP(B27,Data!$F$3:$I$1048576,4,FALSE)/100 -> 1.0118 | K27: 1 | L27: 0.0604 | M27: 46208 | N27: entre 3% et 5% par an | O27: annuelle | P27: Coupon de la valeur du CMS10Y cappé à 5% et flooré à 3% | Q27: =1000000 -> 1000000
A28: Duo Mix The Pink | B28: XS2476596924 | C28: SG | D28: 44778 | E28: 49163 | F28: SOLYS - LFDE International Selection | G28: 84.35 | H28: =VLOOKUP(A28,Data!$A$3:$D$1048576,4,FALSE) -> 81.6655 | I28: =H28/G28-1 -> -0.031825726 | J28: =VLOOKUP(B28,Data!$F$3:$I$1048576,4,FALSE)/100 -> 0.773 | K28: 2 | L28: 0.018 | M28: 46232 | N28: 0.03 | O28: Anuelle | P28: Poche garantie : Remboursement au bout de 3 mois de 90% du capital avec un coupon de 1,80% Garanti sur 100% du nominal (i.e 2,00% sur 90% du capital). Rappel anticipé à 100% x 10% du nominal + i x 3,00% x 10% du nominal si la performance de l’indice est supérieure ou égale à 0% à une des dates de constatation semestrielle à partir de l'année 4 (05 août 2026). Protection capital : perte en capital si la baisse de l’indice au terme est supérieure à -50% | Q28: =35000000 -> 35000000
A30: Digit Mémoire Septembre 2022 | B30: XS2508134652 | C30: SG | D30: 44833 | E30: 49216 | F30: SOLYS - LFDE International Selection | G30: 76.1529 | H30: =VLOOKUP(A28,Data!$A$3:$D$1048576,4,FALSE) -> 81.6655 | I30: =H30/G30-1 -> 0.072388576 | J30: =VLOOKUP(B30,Data!$F$3:$I$1048576,4,FALSE)/100 -> 1.0338 | K30: 2 | L30: 0.129 | M30: 46294 | N30: 0.0645 | O30: Annuelle | P30: Coupon de 6.45% par an est versé si la performance de l’indice est supérieure ou égale à -10% aux dates de constatation annuelles Effet mémoire permettra de toucher les coupons d’attente non versés les années précédentes si la performance est supérieure ou égale à -10% aux dates de constatation annuelles A l’échéance : le capital est garanti à 100% | Q30: =1200000 -> 1200000
A31: Duo Mix 90/10 MD Novembre 2022 | B31: XS2508349342 | C31: SG | D31: 44874 | E31: 49257 | F31: SOLYS - LFDE International Selection | G31: 79.61 | H31: =VLOOKUP(A31,Data!$A$3:$D$1048576,4,FALSE) -> 81.6655 | I31: =H31/G31-1 -> 0.025819621 | J31: =VLOOKUP(B31,Data!$F$3:$I$1048576,4,FALSE)/100 -> 0.9641 | K31: 2 | L31: 0.018 | M31: 46335 | N31: 0.078 | O31: Annuelle | P31: Poche garantie : Remboursement de 90% du capital (i.e 900€par part) avec un coupon de 1,80% Garanti sur 100% du nominal (soit 2.00% sur 90%) Coupon conditionnel : 7,80% par année écoulé en cas de rappel anticipé Rappel anticipé : Si la performance de l'indice est positive ou nulle à l'une des dates de constatation annuelle à partir de l'année 4 À maturité: Riqsue de perte partielle ou total si la performance du sous-jacent est inférieure à 50% de son niveau initial | Q31: =3300000 -> 3300000
A32: CLN CA Sub Novembre 2022 | B32: FRSG000133U4 | C32: SG | D32: 44875 | E32: 46762 | F32: - | G32: - | H32: - | I32: - | J32: =VLOOKUP(B32,Data!$F$3:$I$1048576,4,FALSE)/100 -> 1.0071 | K32: 1 | L32: 0.172 | M32: 46397 | N32: 0.043 | O32: annuelle | P32: coupon Le 10 janvier de chaque année à compter du 10 janvier 2023 (inclus) juqu'à la date d'échéance prévue (incluse) | Q32: =500000 -> 500000
A33: CLN SG Sub CSJL Novembre 2022 | B33: XS2442988932 | C33: BNP | D33: 44875 | E33: 46573 | F33: - | G33: - | H33: - | I33: - | J33: =VLOOKUP(B33,Data!$F$3:$I$1048576,4,FALSE)/100 -> 1.0136 | K33: 3 | L33: 0.0529 | M33: 46208 | N33: entre 3,20% et 5% | O33: annuelle | P33: coupon Payé annuellement à partir du 5 Juillet 2023 | Q33: =1500000 -> 1500000
A34: CLN Generali Sub Novembre 2022 | B34: FRSG000133V2 | C34: SG | D34: 44875 | E34: 46762 | F34: - | G34: - | H34: - | I34: - | J34: =VLOOKUP(B34,Data!$F$3:$I$1048576,4,FALSE)/100 -> 1.0105 | K34: 3 | L34: 0.18 | M34: 46397 | N34: 0.045 | O34: annuelle | P34: coupon Le 10 janvier de chaque année à compter du 10 janvier 2023 (inclus) juqu'à la date d'échéance prévue (incluse) | Q34: =500000 -> 500000
A35: CLN BBVA Sub Novembre 2022 | B35: FRSG000133T6 | C35: SG | D35: 44875 | E35: 46762 | F35: - | G35: - | H35: - | I35: - | J35: =VLOOKUP(B35,Data!$F$3:$I$1048576,4,FALSE)/100 -> 1.0201 | K35: 1 | L35: 0.2 | M35: 46397 | N35: 0.05 | O35: annuelle | P35: coupon Le 10 janvier de chaque année à compter du 10 janvier 2023 (inclus) juqu'à la date d'échéance prévue (incluse) | Q35: =700000 -> 700000
A36: Digit Memoire Montauroux Novembre 2022 | B36: XS2508348880 | C36: SG | D36: 44879 | E36: 47071 | F36: SOLYS - LFDE International Selection | G36: 82.0877 | H36: =VLOOKUP(A31,Data!$A$3:$D$1048576,4,FALSE) -> 81.6655 | I36: =H36/G36-1 -> -0.0051432797 | J36: =VLOOKUP(B36,Data!$F$3:$I$1048576,4,FALSE)/100 -> 1.0174 | K36: 2 | L36: 0.106 | M36: 46342 | N36: 0.053 | O36: Annuelle | P36: Coupon de 5.30% par an est versé si la performance de l’indice est supérieure ou égale à 0% aux dates de constatation annuelles Effet mémoire permettra de toucher les coupons d’attente non versés les années précédentes si la performance est supérieure ou égale à 0% aux dates de constatations annuelles A l’échéance : le capital est garanti à 100% | Q36: =500000 -> 500000
A38: CLN Itraxx Serie 38 DAN Février 2023 | B38: XS2482750812 | C38: GS | D38: 44966 | E38: 46741 | F38: - | G38: - | H38: - | I38: - | J38: =VLOOKUP(B38,Data!$F$3:$I$1048576,4,FALSE)/100 -> 1.0336 | K38: 5 | L38: 0.11 | M38: 46741 | N38: 0.055 | O38: Annuelle | P38: Coupons : 5,50% par an payé in fine en l'absence d'événement de crédit Protection du capital : 100% si aucun événement de crédit n'est survenue sur l'entité de référence à aucun moment durant la durée de vie du produit | Q38: =1000000 -> 1000000
A39: Rendement EuroStoxx 50 3Y | B39: FR001400DJY4 | C39: BNP | D39: 44985 | E39: 46083 | F39: Euro STOXX 50 | G39: 4238.38 | H39: =VLOOKUP(A39,Data!$A$3:$D$1048576,4,FALSE) -> 6138.41 | I39: =H39/G39-1 -> 0.44829156 | J39: =VLOOKUP(B39,Data!$F$3:$I$1048576,4,FALSE)/100 -> 1.0369 | K39: 1 | L39: 0.086 | M39: 46083 | N39: 0.043 | O39: Anuelle | P39: Pas de rappel anticipé Coupon garanti de 4.30% par an Protection du capital : Pas de garantie en capital si la baisse au terme est supérieure à -60% (attention => risque de perte de 100% du capital) | Q39: =69928 -> 69928
A40: iTraxx Main Serie 38 Mars 2023 | B40: XS2484625749 | C40: BNP | D40: 44999 | E40: 46758 | F40: - | G40: - | H40: - | I40: - | J40: =VLOOKUP(B40,Data!$F$3:$I$1048576,4,FALSE)/100 -> 1.0254 | K40: 2 | L40: 0.162 | M40: 46393 | N40: 0.054 | O40: annuelle | P40: capital à risque : point d'attachement à 4,00% (soit 5évènement de crédits), point de détachement à 7,20% soit 9 évènements de crédit. Autrement dit : - 1 à 5 évènement de crédit : capital garanti à 100% - 6 évènements de crédit perte de 25% du capital investi - 7 évènements de crédit perte de 50% du capital investi - 8 évènements de crédit perte de 75% du capital investi - 9 évènements de crédit perte de 100% du capital investi | Q40: =300000 -> 300000
A41: Rendement Euro Stoxx 50 Mars 2023 | B41: FR001400EHF5 | C41: GS | D41: 45016 | E41: 46484 | F41: Euro Stoxx 50 | G41: 4315.05 | H41: =VLOOKUP(A41,Data!$A$3:$D$1048576,4,FALSE) -> 6138.41 | I41: =H41/G41-1 -> 0.42255826 | J41: =VLOOKUP(B41,Data!$F$3:$I$1048576,4,FALSE)/100 -> 1.0397 | K41: 1 | L41: 0.085 | M41: 46477 | N41: 0.0425 | O41: Annuelle | P41: Coupons de 4,25 % les années 1 à 4 garantis (soit 17,00 %) Pas de rappel anticipé Pas de garantie en capital à maturité si la baisse au terme est supérieur à -65% (attention => risque perte de 100% du capital) | Q41: =2492716+1500000 -> 3992716
A42: Athena Rendement Juin 2023 | B42: FR001400I5V0 | C42: SG | D42: 45092 | E42: 48745 | F42: Zephyr Europe | G42: 84.34 | H42: =VLOOKUP(A42,Data!$A$3:$D$1048576,4,FALSE) -> 101.2955 | I42: =H42/G42-1 -> 0.20103747 | J42: =VLOOKUP(B42,Data!$F$3:$I$1048576,4,FALSE)/100 -> 1.0401 | K42: 4 | L42: 0.06 | M42: 46188 | N42: 0.06 | O42: Annuelle | P42: Coupons de 6% les années 1 à 3 garantis ; Gain conditionnel de 6% par année écoulée depuis l'année 3. Rappel anticipé : Le produit peut être rappelé par anticipation à partir du 15 Juin 2027 si le sous-jacent est observé à un niveau supérieur ou égale à 0%. Protection du capital : Pas de garantie en capital à maturité si la baisse au terme est supérieur à -50% (attention => risque perte de 100% du capital) À maturité : effet oxygène jusuqu'à une baisse de 10% du sous-jacent par rapport à son niveau initial. | Q42: =820000 -> 820000
...

Sheet Feuil1

Sheet EMTN DS IS rappelés
A1: Nom du produit | B1: Code ISIN | C1: Emetteur | D1: Date d'observation initiale | E1: Date d'observation finale | F1: Indice de référence Lien hypertexte | G1: Strike au lancement | H1: SRI | I1: Coupon conditionné | J1: Caractéristiques | K1: Type de constatation | L1: Up Front | M1: Rappel anticipé | N1: Gain constaté
A2: Phoenix Eurostoxx Mai 2018 | B2: FR0013322385 | C2: NATIXIS | D2: 43251 | E2: 46904 | F2: Euro Stoxx 50 | G2: 3406.65 | H2: 5 | I2: 0.06 | J2: Barrière de coupon de années 1 à 10 à partir du 15/10/2018 = 75% -barrière rappel = 100% Année 10 : barrière rappel = 75% sans effet mémoire Protection capital jusqu'à baisse de -40% | K2: Annuelle | L2: 0.025 | M2: 43616 | N2: 0.06
A3: Daystoxx Août 2019 | B3: FR0013420999 | C3: SG | D3: 43693 | E3: 47346 | F3: SBF Top 80 EW Decrement | G3: 945.63 | H3: 5 | I3: 0.1 | J3: Constatation quotidienne à partir du 17/08/2020 | K3: Quotidienne | L3: 0.025 | M3: 44151 | N3: 0.12548
A4: Daystoxx Mars 2019 | B4: FR0013378932 | C4: SG | D4: 43553 | E4: 47206 | F4: SBF Top 80 EW Decrement | G4: 950.85 | H4: 5 | I4: 0.085 | J4: Constatation quotidienne à partir du 22 mai 2021 | K4: Quotidienne | L4: - | M4: 44159 | N4: 0.1411
A5: Daystoxx Juin 2019 | B5: FR0013401452 | C5: SG | D5: 43630 | E5: 47290 | F5: SBF Top 80 EW Decrement | G5: 965.26 | H5: 5 | I5: 0.1 | J5: Constatation quotidienne à partir du 15/06/2020 | K5: Quotidienne | L5: 0.025 | M5: 44162 | N5: 0.1466
A6: Daystoxx Octobre 2019 | B6: FR0013433216 | C6: GS | D6: 43769 | E6: 47422 | F6: Euronext CDP Environment France EW Decrement 5% | G6: 1026.34 | H6: 4 | I6: 0.095 | J6: Constatation quotidienne à partir du 31/10/2020 | K6: Quotidienne | L6: 0.025 | M6: 44252 | N6: 0.1255
A7: Phoenix Bank Protel mars 2020 | B7: FRSG000112G7 | C7: SG | D7: 43910 | E7: 47562 | F7: SX7E | G7: 54.01 | H7: 5 | I7: 0.063 | J7: Chaque année, un coupon de 6.30% est versé si la performance de l’indice est supérieur ou égal à -40% inclus aux dates de constatation annuelles, Un effet mémoire permettra de toucher les coupons d’attente non versés les années précédentes si la performance de l’indice est supérieur ou égal à -40% inclus à une date de constatation annuelle. | K7: Annuelle | L7: 0.02 | M7: 44277 | N7: 0.1
A8: Oxycall Mars 2019 | B8: FR0013378940 | C8: SG | D8: 43553 | E8: 47938 | F8: SBF Top 80 EW Decrement | G8: 955.44 | H8: 5 | I8: 0.083 | J8: Barrière de rappel de année 1 à 11 à partir du 30/03/2020 : 100% Année 12 : barrière rappel = 70% Protection capital jusqu'à baisse de - 40% | K8: Annuelle | L8: - | M8: 44284 | N8: 0.166
A9: PGP Rendement Mars 2019 | B9: FR0013379195 | C9: BNP | D9: 43553 | E9: 47938 | F9: Solactive France 40 Equal Weight NTR 5% AR | G9: 968.64 | H9: 4 | I9: 0.04 | J9: 3% versés chaque année x 6 ans Ssi pas remboursé + 4% lors du remboursement avec effet mémoire Protection K à 40% | K9: Annuelle | M9: 44284 | N9: 0.11
A10: Daystoxx Mars 2020 | B10: FR0013464419 | C10: GS | D10: 43921 | E10: 48311 | F10: Euronext CDP Environment France EW Decrement 5% | G10: 722.21 | H10: 4 | J10: Coupon de 9.40% par année (au pro rata temporis) écoulée si le sous-jacent fixe au-dessus de100% (avec effet mémoire) | K10: Quotidienne | L10: 0.03 | M10: 44286 | N10: 0.0942
A11: Rendement Plus France Mars 2018 | B11: FR0013305091 | C11: SG | D11: 43203 | E11: 46853 | F11: SBF Top 80 EW Decrement | G11: 1035.5 | H11: 4 | I11: 0.065 | J11: Coupon de 2.50% par année écoulée en cas de rappel anticipé, Coupon Garanti de 4% versé chaque année des années 1 à 5 | K11: Annuelle | L11: 0.025 | M11: 44292 | N11: 0.115
A12: Daystoxx Décembre 2019 | B12: FR0013455227 | C12: SG | D12: 43830 | E12: 48213 | F12: EURONEXT® EURO 50 ESG EW DECREMENT 50 POINTS | G12: 1066.78 | H12: 5 | I12: 0.096 | J12: Constatation quotidienne à partir du 31/12/2020 | K12: Quotidienne | L12: 0.025 | M12: 44292 | N12: 0.1231
A13: Phoenix Bank CE Avril 2020 | B13: FRSG00011504 | C13: SG | D13: 43935 | E13: 47588 | F13: SX7E | G13: 54.55 | H13: 5 | I13: 0.06 | J13: Chaque année, un coupon d’attente de 6.00% est versé si la performance de l’indice est supérieure à -30 aux dates de constatation annuelle, Un effet mémoire permettra de toucher les coupons d’attente non versés les années précédentes si la performance de l’indice est supérieure à -30 aux dates de constatation annuelle | K13: Annuelle | L13: 0.025 | M13: 44300 | N13: 0.06
A14: Phoenix Eurostoxx Avril 2019 | B14: FR0013383536 | C14: NATIXIS | D14: 43570 | E14: 47224 | F14: Euro Stoxx 50 | G14: 3450.46 | H14: 5 | I14: 0.04 | J14: Barrière de coupon de années 1 à 10 à partir du 15/10/2018 = 80% -barrière rappel = 100% Année 10 : barrière rappel = 80% sans effet mémoire Protection capital jusqu'à baisse de - 40% | K14: Annuelle | L14: - | M14: 44301 | N14: 0.06
A15: Oxycall Juin 2019 | B15: FR0013399193 | C15: SG | D15: 43630 | E15: 48015 | F15: SBF Top 80 EW Decrement | G15: 965.26 | H15: 5 | I15: 0.08 | J15: Barrière de rappel de année 1 à 11 à partir du 15/06/2020 : 100% Année 12 : barrière rappel = 70% Protection capital jusqu'à baisse de - 40% | K15: Annuelle | L15: 0.035 | M15: 44361 | N15: 0.16
A16: PGP Rendement Juin 2019 | B16: FR0013399326 | C16: BNP | D16: 43633 | E16: 48016 | F16: Solactive France 40 Equal Weight NTR 5% AR | G16: 984.66 | H16: 4 | I16: 0.04 | J16: 3% versés chaque année x 6 ans Ssi pas remboursé + 4% lors du remboursement avec effet mémoire Protection K à 40% | K16: Annuelle | L16: 0.035 | M16: 44364 | N16: 0.11
A17: Phoenix EV | B17: FRSG00010B78 | C17: SG | D17: 43643 | E17: 47296 | F17: SBF Top 80 EW Decrement | G17: 981.01 | H17: 5 | I17: 0.04 | J17: Barrière de coupon de années 1 à 9 à partir du 29/06/2020 = 100% avec effet mémoire Barrière rappel = 70% Année 10 sans effet mémoire Protection capital jusqu'à baisse de - 50% | K17: Annuelle | L17: 0.02 | M17: 44375 | N17: 0.04
A18: Daystoxx Juin 2020 | B18: FR0013488707 | C18: SG | D18: 44012 | E18: 48395 | F18: EURONEXT® EURO 50 ESG EW DECREMENT 50 POINTS | G18: 907.59 | H18: 5 | I18: 0.09 | J18: Constatation quotidienne à partir du 30/06/2021 | K18: Quotidienne | L18: 0.03 | M18: 44377 | N18: 0.09
A19: Evolution 2020 | B19: FR0013507597 | C19: SG | D19: 44018 | E19: 48408 | F19: Euro Evolution | G19: 86.02 | H19: 4 | I19: 0.096 | K19: Trimestre | L19: 0.03 | M19: 44383 | N19: 0.2
A20: Evolution Gresel Juillet 2020 | B20: XS2174759618 | C20: SG | D20: 44032 | E20: 48422 | F20: Euro Evolution | G20: 87.18 | H20: 5 | J20: Coupon de 4.30% par trimestre en cas de rappel anticipé | K20: Trimestre | L20: 0.03 | M20: 44397 | N20: 0.172
A21: Phoenix Eurostoxx Juillet 2019 | B21: FR0013413861 | C21: NATIXIS | D21: 43672 | E21: 46960 | F21: Euro Stoxx 50 | G21: 3524.47 | H21: 4 | I21: 0.04 | J21: Barrière de coupon de années 1 à 10 à partir du 15/10/2018 = 80% Barrière rappel = 100% Année 10 : barrière rappel = 80% sans effet mémoire Protection capital jusqu'à baisse de - 50% | K21: Annuelle | L21: 0.025 | M21: 44403 | N21: 0.06
A22: Phoenix OVE | B22: FRSG00010CT5 | C22: SG | D22: 43679 | E22: 47332 | F22: SBF Top 80 EW Decrement | G22: 971.2 | H22: 4 | I22: 0.04 | J22: Barrière de coupon de années 1 à 9 à partir du 29/06/2020 =60% avec effet mémoire Barrière rappel = 70% Année 10 sans effet mémoire Protection capital jusqu'à baisse de -40% | K22: Annuelle | L22: 0.02 | M22: 44410 | N22: 0.04
A23: Oxycall Août 2018 | B23: FR0013334257 | C23: SG | D23: 43326 | E23: 47702 | F23: SBF Top 80 EW Decrement | G23: 1042.98 | H23: 5 | I23: 0.081 | J23: Barrière de rappel de année 1 à 11 à partir du 07/08/2019: 100% - Année 12 : barrière rappel =60% - Protection capital jusqu'à baisse de - 40% | K23: Annuelle | L23: - | M23: 44417 | N23: 0.243
A24: PGP Rendement Août 2019 OVE | B24: FR0013422375 | C24: BNP | D24: 43693 | E24: 48092 | F24: Solactive France 40 Equal Weight NTR 5% AR | G24: 968.24 | H24: 4 | I24: 0.04 | J24: 3% versés chaque année x 6 ans Ssi pas remboursé + 4% lors du remboursement avec effet mémoire Protection K à 40% | K24: Annuelle | L24: 0.035 | M24: 44424 | N24: 0.11
A25: Daystoxx TERRA Décembre 2020 | B25: XS2236141243 | C25: SG | D25: 44193 | E25: 48576 | F25: Euro Evolution | G25: 88.54 | H25: 5 | J25: Rappel anticipé à 100% + 9.00 % par an (prorata temporis) si la performance de l’indice est supérieure ou égale à 0% depuis l’origine à une des dates de constatation quotidiennes à partir de la fin du M9 | K25: Quotidienne | L25: 0.03 | M25: 44467 | N25: 0.06756
A26: PHoenix IAMI | B26: FRSG00010GS8 | C26: SG | D26: 43745 | E26: 47399 | F26: SBFT 50 ESG | G26: 963.78 | H26: 5 | I26: 0.045 | J26: Barrière de coupon de années 1 à 10 à partir du 07/10/2019 = 60% Barrière rappel = 100% Année 10 sans effet mémoire Protection capital jusqu'à baisse de - 40% | K26: Annuelle | L26: 0.02 | M26: 44476 | N26: 0.045
A27: SBF Phoenix 20 Octobre 2017 | B27: FR0013286515 | C27: SG | D27: 43028 | E27: 46673 | F27: SBF Top 80 EW Decrement | G27: 1058.34 | H27: 5 | I27: 0.06 | J27: Barrière de coupon de années 1 à 10 à partir du 15/10/2018 = 80% -barrière rappel = 100% Année 10 : barrière rappel = 80% sans effet mémoire Protection capital jusqu'à baisse de - 50% | K27: Annuelle | L27: - | M27: 44482 | N27: 0.06
A28: Oxycall Octobre 2019 | B28: FR0013435047 | C28: GS | D28: 43769 | E28: 48152 | F28: Euronext CDP Environment France EW Decrement 5% | G28: 1026.34 | H28: 4 | I28: 0.089 | J28: Barrière de rappel de année 1 à 11 à partir du 02/11/2020 : 100% Année 12 : barrière rappel = 70% Protection capital jusqu'à baisse de - 40% | K28: Annuelle | L28: 0.035 | M28: 44501 | N28: 0.178
A29: PGP Rendement octobre 2019 IAMI | B29: FR0013431616 | C29: SG | D29: 43769 | E29: 48159 | F29: Solactive France 40 Equal Weight NTR 5% AR | G29: 953.68 | H29: 4 | I29: 0.045 | J29: 3% versés chaque année x 6 ans Ssi pas remboursé + 4,5% lors du remboursement avec effet mémoire Protection K à 40% | K29: Annuelle | L29: 0.035 | M29: 44501 | N29: 0.12
A30: Phoenix snowball Hood Novembre 2019 | B30: XS2042886742 | C30: SG | D30: 43774 | E30: 47427 | F30: SBF Top 80 EW Decrement | G30: 1019.68 | H30: 5 | I30: 0.04 | J30: Barrière de coupon de années 1 à 10 à partir du 29/06/2020 =70% avec effet mémoire Barrière rappel = 100% Année 1 à10 sans effet mémoire Protection capital jusqu'à baisse de -50% | K30: Annuelle | L30: 0.02 | M30: 44505 | N30: 0.04
A31: Daystoxx 2 Novembre 2016 | B31: FR0013196342 | C31: SG | D31: 42689 | E31: 46335 | F31: Euro iSTOXX EWC 50 | G31: 942.3 | H31: 6 | I31: 0.0525 | J31: Constatation quotidienne à partir du 10 février 2020 | K31: Quotidienne | L31: - | M31: 44508 | N31: 0.05135
A32: Monthly Call Décembre 2020 | B32: FR0014000816 | C32: SG | D32: 44193 | E32: 48576 | F32: Euro iSTOXX EWC 50 | G32: 1035.81 | H32: 5 | J32: Coupon de 8.10% par an soit 0.675% p.m en cas de rappel anticipé, Clause de rappel anticipé => Performance de l’indice positive ou nulle aux dates de constatation mensuelle à partir du M12, Airbag -40% à maturité pour récupérer les coupons | K32: Mensuelle | L32: 0.03 | M32: 44558 | N32: 0.081
A33: Daily Oxygene Décembre 2020 | B33: FR00140006C4 | C33: GS | D33: 44193 | E33: 48583 | F33: S&P Eurozone 30 ESG-Momentum Equal Weight 50-Point Decrement Index | G33: 955.11 | H33: 6 | J33: Coupon de 13.00% par année (au pro rata temporis) écoulée si le sous-jacent fixe au-dessus de100% (avec effet mémoire) Clause de rappel anticipé => Performance de l’indice positive ou nulle aux dates de constatations quotidiennes (non call un an) | M33: 44558 | N33: 0.13
A34: Phoenix Bank Décembre 2019 | B34: XS2059557988 | C34: SG | D34: 43495 | E34: 47485 | F34: SX7E | G34: 93.18 | H34: 5 | I34: 0.0615 | K34: Annuelle | L34: 0.02 | M34: 44592 | N34: 0.0615
A35: Daystoxx 2 Février 2017 | B35: FR0013217387 | C35: SG | D35: 42783 | E35: 46428 | F35: Euro iSTOXX EWC 50 | G35: 1009.23 | H35: 6 | I35: 5,25% de l'année 1 à 4 puis 5,23% annuel | J35: Constatation quotidienne à partir du 10 février 2021 | K35: Annuelle | L35: - | M35: 44602 | N35: 0.0515
A36: Dailycall Mai 2021 | B36: FR00140024C7 | C36: SG | D36: 44330 | E36: 48715 | F36: Euro Evolution | G36: 93.26 | H36: 5 | J36: Rappel anticipé à 100% + 12.00 % par an (prorata temporis) si la performance de l’indice est supérieure ou égale à 0% depuis l’origine à une des dates de constatation quotidiennes à partir de la fin de l’année 1, Effet oxygene à maturité jusqu’à une baisse de -20% | K36: Quotidienne | L36: 0.03 | M36: 44711 | N36: 0.0028
A37: CERA BURAGLIO 2022 | B37: XS1793690873 | C37: BNP | D37: 43297 | E37: 44760 | F37: Euro Stoxx 50 | G37: 3512.31 | H37: 3 | I37: 0.018 | J37: si aux dates de constations annuelles, indice ≥ 80% alors coupon de 1,80% sinon pas de coupon. Garantie du capital à l'échéance | K37: Annuelle | L37: 0.005 | M37: 44760 | N37: -
A38: FIDIS | B38: XS1554312378 | C38: BNP | D38: 42944 | E38: 44770 | F38: Non concerné | H38: 3 | I38: 0.05 | J38: Un objectif de coupon de 5,00 %(1) par an, en l’absence d’événement de crédit(*) sur l’une des huit Entités de Référence (soit un taux de rendement annuel net maximum de 3,95 %) ; le premier événement de crédit survenant sur chacune des Entités de Référence aura pour effet de faire baisser le coupon d’un huitième par rapport au coupon initial ; | K38: Annuelle | L38: - | M38: 44770 | N38: 0.0375
A39: Duo Mix TI Décembre 2020 | B39: XS2236257114 | C39: SG | D39: 44176 | E39: 48561 | F39: SX7E | G39: 86.9 | H39: 2 | J39: Remboursement de 70% du capital (i.e 700€par part) avec un coupon de 1.40% Garanti sur 100% du nominal (i.e 2% sur 70% du capital) - Chaque année, un coupon d’attente de 3.20% x 30% du nominal (i.e 300€ par part) est versé si la performance de l’indice est supérieure à -20 aux dates de constatation annuelle - Un effet mémoire permettra de toucher les coupons d’attente non versés les années précédentes si la performance de l’indice est supérieure à -20 aux dates de constatation annuelle - Rappel anticipé à 100% x 30% du nominal (i.e 300€ par part) (en plus du coupon mémoire) si la performance de l’indice est supérieure ou égale à 0% à une des dates de constatation annuelleà partir de l’année 2 | K39: Annuelle | L39: 0.0275 | M39: 44907 | N39: =3.2%*2 -> 0.064
A40: Daystoxx 2 Mai 2017 | B40: FR0013239266 | C40: SG | D40: 42886 | E40: 46538 | F40: Euro iSTOXX EWC 50 | G40: 1099.45 | H40: 6 | I40: 5,25% de l'année 1 à 4 puis 5,25% annuel | J40: Constatation quotidienne à partir du 22 mai 2021 | K40: Annuelle | L40: 0.02 | M40: 44937 | N40: 0.08604
...

Sheet Composition de portefeuille
A1: Il suffit d'ajouter l'ISIN du produit que vous souhaitez intégrer puis le reste des informations se rempliront automatiquement.
A2: Code ISIN | B2: Nom Commercial | C2: Emetteur | D2: Date d'observation initiale | E2: Date d'observation finale | F2: Indice de référence Lien hypertexte | G2: Strike au lancement | H2: Valorisation au 29/98/2025 | I2: Variation de l'indice | J2: Valorisation2 | K2: SRI | L2: Somme des coupons versés | M2: Prochaine date d'observation | N2: Prochain Coupon conditionnel | O2: Type de constatation | P2: Caractéristiques | Q2: Montant collecté
A3: FR001400I5V0 | B3: =IFERROR(INDEX('EMTN DS IS en cours de vie'!A:A,MATCH(A3,'EMTN DS IS en cours de vie'!B:B,0)),"") -> Athena Rendement Juin 2023 | C3: =IFERROR(INDEX('EMTN DS IS en cours de vie'!C:C,MATCH(A3,'EMTN DS IS en cours de vie'!B:B,0)),"") -> SG | D3: =IFERROR(INDEX('EMTN DS IS en cours de vie'!D:D,MATCH(A3,'EMTN DS IS en cours de vie'!B:B,0)),"") -> 45092 | E3: =IFERROR(INDEX('EMTN DS IS en cours de vie'!E:E,MATCH(A3,'EMTN DS IS en cours de vie'!B:B,0)),"") -> 48745 | F3: =IFERROR(INDEX('EMTN DS IS en cours de vie'!F:F,MATCH(A3,'EMTN DS IS en cours de vie'!B:B,0)),"") -> Zephyr Europe | G3: =IFERROR(INDEX('EMTN DS IS en cours de vie'!G:G,MATCH(A3,'EMTN DS IS en cours de vie'!B:B,0)),"") -> 84.34 | H3: =IFERROR(INDEX('EMTN DS IS en cours de vie'!H:H,MATCH(A3,'EMTN DS IS en cours de vie'!B:B,0)),"") -> 101.2955 | I3: =IFERROR(INDEX('EMTN DS IS en cours de vie'!I:I,MATCH(A3,'EMTN DS IS en cours de vie'!B:B,0)),"") -> 0.20103747 | J3: =IFERROR(INDEX('EMTN DS IS en cours de vie'!J:J,MATCH(A3,'EMTN DS IS en cours de vie'!B:B,0)),"") -> 1.0401 | K3: =IFERROR(INDEX('EMTN DS IS en cours de vie'!K:K,MATCH(A3,'EMTN DS IS en cours de vie'!B:B,0)),"") -> 4 | L3: =IFERROR(INDEX('EMTN DS IS en cours de vie'!L:L,MATCH(A3,'EMTN DS IS en cours de vie'!B:B,0)),"") -> 0.06 | M3: =IFERROR(INDEX('EMTN DS IS en cours de vie'!M:M,MATCH(A3,'EMTN DS IS en cours de vie'!B:B,0)),"") -> 46188 | N3: =IFERROR(INDEX('EMTN DS IS en cours de vie'!N:N,MATCH(A3,'EMTN DS IS en cours de vie'!B:B,0)),"") -> 0.06 | O3: =IFERROR(INDEX('EMTN DS IS en cours de vie'!O:O,MATCH(A3,'EMTN DS IS en cours de vie'!B:B,0)),"") -> Annuelle | P3: =IFERROR(INDEX('EMTN DS IS en cours de vie'!P:P,MATCH(A3,'EMTN DS IS en cours de vie'!B:B,0)),"") -> Coupons de 6% les années 1 à 3 garantis ; Gain conditionnel de 6% par année écoulée depuis l'année 3. Rappel anticipé : Le produit peut être rappelé par anticipation à partir du 15 Juin 2027 si le sous-jacent est observé à un niveau supérieur ou égale à 0%. Protection du capital : Pas de garantie en capital à maturité si la baisse au terme est supérieur à -50% (attention => risque perte de 100% du capital) À maturité : effet oxygène jusuqu'à une baisse de 10% du sous-jacent par rapport à son niveau initial. | Q3: =IFERROR(INDEX('EMTN DS IS en cours de vie'!Q:Q,MATCH(A3,'EMTN DS IS en cours de vie'!B:B,0)),"") -> 820000
B4: =IFERROR(INDEX('EMTN DS IS en cours de vie'!A:A,MATCH(A4,'EMTN DS IS en cours de vie'!B:B,0)),"") | C4: =IFERROR(INDEX('EMTN DS IS en cours de vie'!C:C,MATCH(A4,'EMTN DS IS en cours de vie'!B:B,0)),"") | D4: =IFERROR(INDEX('EMTN DS IS en cours de vie'!D:D,MATCH(A4,'EMTN DS IS en cours de vie'!B:B,0)),"") | E4: =IFERROR(INDEX('EMTN DS IS en cours de vie'!E:E,MATCH(A4,'EMTN DS IS en cours de vie'!B:B,0)),"") | F4: =IFERROR(INDEX('EMTN DS IS en cours de vie'!F:F,MATCH(A4,'EMTN DS IS en cours de vie'!B:B,0)),"") | G4: =IFERROR(INDEX('EMTN DS IS en cours de vie'!G:G,MATCH(A4,'EMTN DS IS en cours de vie'!B:B,0)),"") | H4: =IFERROR(INDEX('EMTN DS IS en cours de vie'!H:H,MATCH(A4,'EMTN DS IS en cours de vie'!B:B,0)),"") | I4: =IFERROR(INDEX('EMTN DS IS en cours de vie'!I:I,MATCH(A4,'EMTN DS IS en cours de vie'!B:B,0)),"") | J4: =IFERROR(INDEX('EMTN DS IS en cours de vie'!J:J,MATCH(A4,'EMTN DS IS en cours de vie'!B:B,0)),"") | K4: =IFERROR(INDEX('EMTN DS IS en cours de vie'!K:K,MATCH(A4,'EMTN DS IS en cours de vie'!B:B,0)),"") | L4: =IFERROR(INDEX('EMTN DS IS en cours de vie'!L:L,MATCH(A4,'EMTN DS IS en cours de vie'!B:B,0)),"") | M4: =IFERROR(INDEX('EMTN DS IS en cours de vie'!M:M,MATCH(A4,'EMTN DS IS en cours de vie'!B:B,0)),"") | N4: =IFERROR(INDEX('EMTN DS IS en cours de vie'!N:N,MATCH(A4,'EMTN DS IS en cours de vie'!B:B,0)),"") | O4: =IFERROR(INDEX('EMTN DS IS en cours de vie'!O:O,MATCH(A4,'EMTN DS IS en cours de vie'!B:B,0)),"") | P4: =IFERROR(INDEX('EMTN DS IS en cours de vie'!P:P,MATCH(A4,'EMTN DS IS en cours de vie'!B:B,0)),"") | Q4: =IFERROR(INDEX('EMTN DS IS en cours de vie'!Q:Q,MATCH(A4,'EMTN DS IS en cours de vie'!B:B,0)),"")
B5: =IFERROR(INDEX('EMTN DS IS en cours de vie'!A:A,MATCH(A5,'EMTN DS IS en cours de vie'!B:B,0)),"") | C5: =IFERROR(INDEX('EMTN DS IS en cours de vie'!C:C,MATCH(A5,'EMTN DS IS en cours de vie'!B:B,0)),"") | E5: =IFERROR(INDEX('EMTN DS IS en cours de vie'!E:E,MATCH(A5,'EMTN DS IS en cours de vie'!B:B,0)),"") | F5: =IFERROR(INDEX('EMTN DS IS en cours de vie'!F:F,MATCH(A5,'EMTN DS IS en cours de vie'!B:B,0)),"") | G5: =IFERROR(INDEX('EMTN DS IS en cours de vie'!G:G,MATCH(A5,'EMTN DS IS en cours de vie'!B:B,0)),"") | H5: =IFERROR(INDEX('EMTN DS IS en cours de vie'!H:H,MATCH(A5,'EMTN DS IS en cours de vie'!B:B,0)),"") | I5: =IFERROR(INDEX('EMTN DS IS en cours de vie'!I:I,MATCH(A5,'EMTN DS IS en cours de vie'!B:B,0)),"") | J5: =IFERROR(INDEX('EMTN DS IS en cours de vie'!J:J,MATCH(A5,'EMTN DS IS en cours de vie'!B:B,0)),"") | K5: =IFERROR(INDEX('EMTN DS IS en cours de vie'!K:K,MATCH(A5,'EMTN DS IS en cours de vie'!B:B,0)),"") | L5: =IFERROR(INDEX('EMTN DS IS en cours de vie'!L:L,MATCH(A5,'EMTN DS IS en cours de vie'!B:B,0)),"") | M5: =IFERROR(INDEX('EMTN DS IS en cours de vie'!M:M,MATCH(A5,'EMTN DS IS en cours de vie'!B:B,0)),"") | N5: =IFERROR(INDEX('EMTN DS IS en cours de vie'!N:N,MATCH(A5,'EMTN DS IS en cours de vie'!B:B,0)),"") | O5: =IFERROR(INDEX('EMTN DS IS en cours de vie'!O:O,MATCH(A5,'EMTN DS IS en cours de vie'!B:B,0)),"") | P5: =IFERROR(INDEX('EMTN DS IS en cours de vie'!P:P,MATCH(A5,'EMTN DS IS en cours de vie'!B:B,0)),"") | Q5: =IFERROR(INDEX('EMTN DS IS en cours de vie'!Q:Q,MATCH(A5,'EMTN DS IS en cours de vie'!B:B,0)),"")
B6: =IFERROR(INDEX('EMTN DS IS en cours de vie'!A:A,MATCH(A6,'EMTN DS IS en cours de vie'!B:B,0)),"") | C6: =IFERROR(INDEX('EMTN DS IS en cours de vie'!C:C,MATCH(A6,'EMTN DS IS en cours de vie'!B:B,0)),"") | D6: =IFERROR(INDEX('EMTN DS IS en cours de vie'!D:D,MATCH(A6,'EMTN DS IS en cours de vie'!B:B,0)),"") | E6: =IFERROR(INDEX('EMTN DS IS en cours de vie'!E:E,MATCH(A6,'EMTN DS IS en cours de vie'!B:B,0)),"") | F6: =IFERROR(INDEX('EMTN DS IS en cours de vie'!F:F,MATCH(A6,'EMTN DS IS en cours de vie'!B:B,0)),"") | G6: =IFERROR(INDEX('EMTN DS IS en cours de vie'!G:G,MATCH(A6,'EMTN DS IS en cours de vie'!B:B,0)),"") | H6: =IFERROR(INDEX('EMTN DS IS en cours de vie'!H:H,MATCH(A6,'EMTN DS IS en cours de vie'!B:B,0)),"") | I6: =IFERROR(INDEX('EMTN DS IS en cours de vie'!I:I,MATCH(A6,'EMTN DS IS en cours de vie'!B:B,0)),"") | J6: =IFERROR(INDEX('EMTN DS IS en cours de vie'!J:J,MATCH(A6,'EMTN DS IS en cours de vie'!B:B,0)),"") | K6: =IFERROR(INDEX('EMTN DS IS en cours de vie'!K:K,MATCH(A6,'EMTN DS IS en cours de vie'!B:B,0)),"") | L6: =IFERROR(INDEX('EMTN DS IS en cours de vie'!L:L,MATCH(A6,'EMTN DS IS en cours de vie'!B:B,0)),"") | M6: =IFERROR(INDEX('EMTN DS IS en cours de vie'!M:M,MATCH(A6,'EMTN DS IS en cours de vie'!B:B,0)),"") | N6: =IFERROR(INDEX('EMTN DS IS en cours de vie'!N:N,MATCH(A6,'EMTN DS IS en cours de vie'!B:B,0)),"") | O6: =IFERROR(INDEX('EMTN DS IS en cours de vie'!O:O,MATCH(A6,'EMTN DS IS en cours de vie'!B:B,0)),"") | P6: =IFERROR(INDEX('EMTN DS IS en cours de vie'!P:P,MATCH(A6,'EMTN DS IS en cours de vie'!B:B,0)),"") | Q6: =IFERROR(INDEX('EMTN DS IS en cours de vie'!Q:Q,MATCH(A6,'EMTN DS IS en cours de vie'!B:B,0)),"")
B7: =IFERROR(INDEX('EMTN DS IS en cours de vie'!A:A,MATCH(A7,'EMTN DS IS en cours de vie'!B:B,0)),"") | C7: =IFERROR(INDEX('EMTN DS IS en cours de vie'!C:C,MATCH(A7,'EMTN DS IS en cours de vie'!B:B,0)),"") | D7: =IFERROR(INDEX('EMTN DS IS en cours de vie'!D:D,MATCH(A7,'EMTN DS IS en cours de vie'!B:B,0)),"") | E7: =IFERROR(INDEX('EMTN DS IS en cours de vie'!E:E,MATCH(A7,'EMTN DS IS en cours de vie'!B:B,0)),"") | F7: =IFERROR(INDEX('EMTN DS IS en cours de vie'!F:F,MATCH(A7,'EMTN DS IS en cours de vie'!B:B,0)),"") | G7: =IFERROR(INDEX('EMTN DS IS en cours de vie'!G:G,MATCH(A7,'EMTN DS IS en cours de vie'!B:B,0)),"") | H7: =IFERROR(INDEX('EMTN DS IS en cours de vie'!H:H,MATCH(A7,'EMTN DS IS en cours de vie'!B:B,0)),"") | I7: =IFERROR(INDEX('EMTN DS IS en cours de vie'!I:I,MATCH(A7,'EMTN DS IS en cours de vie'!B:B,0)),"") | J7: =IFERROR(INDEX('EMTN DS IS en cours de vie'!J:J,MATCH(A7,'EMTN DS IS en cours de vie'!B:B,0)),"") | K7: =IFERROR(INDEX('EMTN DS IS en cours de vie'!K:K,MATCH(A7,'EMTN DS IS en cours de vie'!B:B,0)),"") | L7: =IFERROR(INDEX('EMTN DS IS en cours de vie'!L:L,MATCH(A7,'EMTN DS IS en cours de vie'!B:B,0)),"") | M7: =IFERROR(INDEX('EMTN DS IS en cours de vie'!M:M,MATCH(A7,'EMTN DS IS en cours de vie'!B:B,0)),"") | N7: =IFERROR(INDEX('EMTN DS IS en cours de vie'!N:N,MATCH(A7,'EMTN DS IS en cours de vie'!B:B,0)),"") | O7: =IFERROR(INDEX('EMTN DS IS en cours de vie'!O:O,MATCH(A7,'EMTN DS IS en cours de vie'!B:B,0)),"") | P7: =IFERROR(INDEX('EMTN DS IS en cours de vie'!P:P,MATCH(A7,'EMTN DS IS en cours de vie'!B:B,0)),"") | Q7: =IFERROR(INDEX('EMTN DS IS en cours de vie'!Q:Q,MATCH(A7,'EMTN DS IS en cours de vie'!B:B,0)),"")
B8: =IFERROR(INDEX('EMTN DS IS en cours de vie'!A:A,MATCH(A8,'EMTN DS IS en cours de vie'!B:B,0)),"") | C8: =IFERROR(INDEX('EMTN DS IS en cours de vie'!C:C,MATCH(A8,'EMTN DS IS en cours de vie'!B:B,0)),"") | D8: =IFERROR(INDEX('EMTN DS IS en cours de vie'!D:D,MATCH(A8,'EMTN DS IS en cours de vie'!B:B,0)),"") | E8: =IFERROR(INDEX('EMTN DS IS en cours de vie'!E:E,MATCH(A8,'EMTN DS IS en cours de vie'!B:B,0)),"") | F8: =IFERROR(INDEX('EMTN DS IS en cours de vie'!F:F,MATCH(A8,'EMTN DS IS en cours de vie'!B:B,0)),"") | G8: =IFERROR(INDEX('EMTN DS IS en cours de vie'!G:G,MATCH(A8,'EMTN DS IS en cours de vie'!B:B,0)),"") | H8: =IFERROR(INDEX('EMTN DS IS en cours de vie'!H:H,MATCH(A8,'EMTN DS IS en cours de vie'!B:B,0)),"") | I8: =IFERROR(INDEX('EMTN DS IS en cours de vie'!I:I,MATCH(A8,'EMTN DS IS en cours de vie'!B:B,0)),"") | J8: =IFERROR(INDEX('EMTN DS IS en cours de vie'!J:J,MATCH(A8,'EMTN DS IS en cours de vie'!B:B,0)),"") | K8: =IFERROR(INDEX('EMTN DS IS en cours de vie'!K:K,MATCH(A8,'EMTN DS IS en cours de vie'!B:B,0)),"") | L8: =IFERROR(INDEX('EMTN DS IS en cours de vie'!L:L,MATCH(A8,'EMTN DS IS en cours de vie'!B:B,0)),"") | M8: =IFERROR(INDEX('EMTN DS IS en cours de vie'!M:M,MATCH(A8,'EMTN DS IS en cours de vie'!B:B,0)),"") | N8: =IFERROR(INDEX('EMTN DS IS en cours de vie'!N:N,MATCH(A8,'EMTN DS IS en cours de vie'!B:B,0)),"") | O8: =IFERROR(INDEX('EMTN DS IS en cours de vie'!O:O,MATCH(A8,'EMTN DS IS en cours de vie'!B:B,0)),"") | P8: =IFERROR(INDEX('EMTN DS IS en cours de vie'!P:P,MATCH(A8,'EMTN DS IS en cours de vie'!B:B,0)),"") | Q8: =IFERROR(INDEX('EMTN DS IS en cours de vie'!Q:Q,MATCH(A8,'EMTN DS IS en cours de vie'!B:B,0)),"")
B9: =IFERROR(INDEX('EMTN DS IS en cours de vie'!A:A,MATCH(A9,'EMTN DS IS en cours de vie'!B:B,0)),"") | C9: =IFERROR(INDEX('EMTN DS IS en cours de vie'!C:C,MATCH(A9,'EMTN DS IS en cours de vie'!B:B,0)),"") | D9: =IFERROR(INDEX('EMTN DS IS en cours de vie'!D:D,MATCH(A9,'EMTN DS IS en cours de vie'!B:B,0)),"") | E9: =IFERROR(INDEX('EMTN DS IS en cours de vie'!E:E,MATCH(A9,'EMTN DS IS en cours de vie'!B:B,0)),"") | F9: =IFERROR(INDEX('EMTN DS IS en cours de vie'!F:F,MATCH(A9,'EMTN DS IS en cours de vie'!B:B,0)),"") | G9: =IFERROR(INDEX('EMTN DS IS en cours de vie'!G:G,MATCH(A9,'EMTN DS IS en cours de vie'!B:B,0)),"") | H9: =IFERROR(INDEX('EMTN DS IS en cours de vie'!H:H,MATCH(A9,'EMTN DS IS en cours de vie'!B:B,0)),"") | I9: =IFERROR(INDEX('EMTN DS IS en cours de vie'!I:I,MATCH(A9,'EMTN DS IS en cours de vie'!B:B,0)),"") | J9: =IFERROR(INDEX('EMTN DS IS en cours de vie'!J:J,MATCH(A9,'EMTN DS IS en cours de vie'!B:B,0)),"") | K9: =IFERROR(INDEX('EMTN DS IS en cours de vie'!K:K,MATCH(A9,'EMTN DS IS en cours de vie'!B:B,0)),"") | L9: =IFERROR(INDEX('EMTN DS IS en cours de vie'!L:L,MATCH(A9,'EMTN DS IS en cours de vie'!B:B,0)),"") | M9: =IFERROR(INDEX('EMTN DS IS en cours de vie'!M:M,MATCH(A9,'EMTN DS IS en cours de vie'!B:B,0)),"") | N9: =IFERROR(INDEX('EMTN DS IS en cours de vie'!N:N,MATCH(A9,'EMTN DS IS en cours de vie'!B:B,0)),"") | O9: =IFERROR(INDEX('EMTN DS IS en cours de vie'!O:O,MATCH(A9,'EMTN DS IS en cours de vie'!B:B,0)),"") | P9: =IFERROR(INDEX('EMTN DS IS en cours de vie'!P:P,MATCH(A9,'EMTN DS IS en cours de vie'!B:B,0)),"") | Q9: =IFERROR(INDEX('EMTN DS IS en cours de vie'!Q:Q,MATCH(A9,'EMTN DS IS en cours de vie'!B:B,0)),"")
B10: =IFERROR(INDEX('EMTN DS IS en cours de vie'!A:A,MATCH(A10,'EMTN DS IS en cours de vie'!B:B,0)),"") | C10: =IFERROR(INDEX('EMTN DS IS en cours de vie'!C:C,MATCH(A10,'EMTN DS IS en cours de vie'!B:B,0)),"") | D10: =IFERROR(INDEX('EMTN DS IS en cours de vie'!D:D,MATCH(A10,'EMTN DS IS en cours de vie'!B:B,0)),"") | E10: =IFERROR(INDEX('EMTN DS IS en cours de vie'!E:E,MATCH(A10,'EMTN DS IS en cours de vie'!B:B,0)),"") | F10: =IFERROR(INDEX('EMTN DS IS en cours de vie'!F:F,MATCH(A10,'EMTN DS IS en cours de vie'!B:B,0)),"") | G10: =IFERROR(INDEX('EMTN DS IS en cours de vie'!G:G,MATCH(A10,'EMTN DS IS en cours de vie'!B:B,0)),"") | H10: =IFERROR(INDEX('EMTN DS IS en cours de vie'!H:H,MATCH(A10,'EMTN DS IS en cours de vie'!B:B,0)),"") | I10: =IFERROR(INDEX('EMTN DS IS en cours de vie'!I:I,MATCH(A10,'EMTN DS IS en cours de vie'!B:B,0)),"") | J10: =IFERROR(INDEX('EMTN DS IS en cours de vie'!J:J,MATCH(A10,'EMTN DS IS en cours de vie'!B:B,0)),"") | K10: =IFERROR(INDEX('EMTN DS IS en cours de vie'!K:K,MATCH(A10,'EMTN DS IS en cours de vie'!B:B,0)),"") | L10: =IFERROR(INDEX('EMTN DS IS en cours de vie'!L:L,MATCH(A10,'EMTN DS IS en cours de vie'!B:B,0)),"") | M10: =IFERROR(INDEX('EMTN DS IS en cours de vie'!M:M,MATCH(A10,'EMTN DS IS en cours de vie'!B:B,0)),"") | N10: =IFERROR(INDEX('EMTN DS IS en cours de vie'!N:N,MATCH(A10,'EMTN DS IS en cours de vie'!B:B,0)),"") | O10: =IFERROR(INDEX('EMTN DS IS en cours de vie'!O:O,MATCH(A10,'EMTN DS IS en cours de vie'!B:B,0)),"") | P10: =IFERROR(INDEX('EMTN DS IS en cours de vie'!P:P,MATCH(A10,'EMTN DS IS en cours de vie'!B:B,0)),"") | Q10: =IFERROR(INDEX('EMTN DS IS en cours de vie'!Q:Q,MATCH(A10,'EMTN DS IS en cours de vie'!B:B,0)),"")
B11: =IFERROR(INDEX('EMTN DS IS en cours de vie'!A:A,MATCH(A11,'EMTN DS IS en cours de vie'!B:B,0)),"") | C11: =IFERROR(INDEX('EMTN DS IS en cours de vie'!C:C,MATCH(A11,'EMTN DS IS en cours de vie'!B:B,0)),"") | D11: =IFERROR(INDEX('EMTN DS IS en cours de vie'!D:D,MATCH(A11,'EMTN DS IS en cours de vie'!B:B,0)),"") | E11: =IFERROR(INDEX('EMTN DS IS en cours de vie'!E:E,MATCH(A11,'EMTN DS IS en cours de vie'!B:B,0)),"") | F11: =IFERROR(INDEX('EMTN DS IS en cours de vie'!F:F,MATCH(A11,'EMTN DS IS en cours de vie'!B:B,0)),"") | G11: =IFERROR(INDEX('EMTN DS IS en cours de vie'!G:G,MATCH(A11,'EMTN DS IS en cours de vie'!B:B,0)),"") | H11: =IFERROR(INDEX('EMTN DS IS en cours de vie'!H:H,MATCH(A11,'EMTN DS IS en cours de vie'!B:B,0)),"") | I11: =IFERROR(INDEX('EMTN DS IS en cours de vie'!I:I,MATCH(A11,'EMTN DS IS en cours de vie'!B:B,0)),"") | J11: =IFERROR(INDEX('EMTN DS IS en cours de vie'!J:J,MATCH(A11,'EMTN DS IS en cours de vie'!B:B,0)),"") | K11: =IFERROR(INDEX('EMTN DS IS en cours de vie'!K:K,MATCH(A11,'EMTN DS IS en cours de vie'!B:B,0)),"") | L11: =IFERROR(INDEX('EMTN DS IS en cours de vie'!L:L,MATCH(A11,'EMTN DS IS en cours de vie'!B:B,0)),"") | M11: =IFERROR(INDEX('EMTN DS IS en cours de vie'!M:M,MATCH(A11,'EMTN DS IS en cours de vie'!B:B,0)),"") | N11: =IFERROR(INDEX('EMTN DS IS en cours de vie'!N:N,MATCH(A11,'EMTN DS IS en cours de vie'!B:B,0)),"") | O11: =IFERROR(INDEX('EMTN DS IS en cours de vie'!O:O,MATCH(A11,'EMTN DS IS en cours de vie'!B:B,0)),"") | P11: =IFERROR(INDEX('EMTN DS IS en cours de vie'!P:P,MATCH(A11,'EMTN DS IS en cours de vie'!B:B,0)),"") | Q11: =IFERROR(INDEX('EMTN DS IS en cours de vie'!Q:Q,MATCH(A11,'EMTN DS IS en cours de vie'!B:B,0)),"")
